BEGIN:VCALENDAR
VERSION:2.0
PRODID:www.stappen-shoppen.nl
BEGIN:VEVENT
UID:stappen-shoppen.nl/entity/682ed650f0c11186320a522c
DTSTAMP:20260421T160406Z
ORGANIZER;CN=:MAILTO:Info@arrangerie.nl
DTSTART:20250525T100000Z
DTEND:20250525T150000Z
URL:https://m.etten-leurcityapp.nl/ical/682ed650f0c11186320a522c
SUMMARY:Open op Koopzondag 25-5 
DESCRIPTION:Koopzondag 25/5 open van 12 tot 17 uur 
END:VEVENT
END:VCALENDAR

