BEGIN:VCALENDAR
VERSION:2.0
PRODID:www.stappen-shoppen.nl
BEGIN:VEVENT
UID:stappen-shoppen.nl/entity/692ea4df7006e67d4208a8cc
DTSTAMP:20260425T161010Z
ORGANIZER;CN=:MAILTO:
DTSTART:20251221T190000Z
DTEND:20251221T230000Z
URL:https://m.etten-leurcityapp.nl/ical/692ea4df7006e67d4208a8cc
SUMMARY:Frozen Beats op de schaatsbaan
DESCRIPTION:Gratis entree\, Gratis schaatsen\, Gratis schaatsverhuur\, 12-18 (neem je ID mee)\, Vol = Vol.
END:VEVENT
END:VCALENDAR

